BEGIN:VCALENDAR
VERSION:2.0
PRODID:-//hacksw/handcal//NONSGML v1.0//EN
CALSCALE:GREGORIAN
BEGIN:VEVENT
DTSTART:20131219T110000Z
DTEND:20131219T110000Z
UID:e14042
DTSTAMP:20260424T050211Z
LOCATION:Perlman Chemical Sciences Building
DESCRIPTION:Advances in atomic force microscopy methods to characterize polymer materials
SUMMARY:Advances in atomic force microscopy methods to characterize polymer materials
END:VEVENT
END:VCALENDAR