BEGIN:VCALENDAR
VERSION:2.0
PRODID:-//hacksw/handcal//NONSGML v1.0//EN
CALSCALE:GREGORIAN
BEGIN:VEVENT
DTSTART:20131215T120000Z
DTEND:20131215T130000Z
UID:e14043
DTSTAMP:20260423T183833Z
LOCATION:Arthur and Rochelle Belfer Building for Biomedical Research
DESCRIPTION:Increasing the Resolution and Coverage of Metabolome Analysis in the Post-Metabolomics Era
SUMMARY:Increasing the Resolution and Coverage of Metabolome Analysis in the Post-Metabolomics Era
END:VEVENT
END:VCALENDAR