BEGIN:VCALENDAR
VERSION:2.0
PRODID:-//hacksw/handcal//NONSGML v1.0//EN
CALSCALE:GREGORIAN
BEGIN:VEVENT
DTSTART:20131204T080000Z
DTEND:20131204T080000Z
UID:e14046
DTSTAMP:20260421T223129Z
LOCATION:Jacob Ziskind Building
DESCRIPTION:Chemical Physics Department Guest Seminar
SUMMARY:Chemical Physics Department Guest Seminar
END:VEVENT
END:VCALENDAR