BEGIN:VCALENDAR
VERSION:2.0
PRODID:-//hacksw/handcal//NONSGML v1.0//EN
CALSCALE:GREGORIAN
BEGIN:VEVENT
DTSTART:20131119T081500Z
DTEND:20131119T090000Z
UID:e14047
DTSTAMP:20260421T102847Z
LOCATION:Nella and Leon Benoziyo Physics Building
DESCRIPTION:Blackbody photosphere of the Universe and unavoidable  CMB spectral distortions
SUMMARY:Blackbody photosphere of the Universe and unavoidable  CMB spectral distortions
END:VEVENT
END:VCALENDAR