BEGIN:VCALENDAR
VERSION:2.0
PRODID:-//hacksw/handcal//NONSGML v1.0//EN
CALSCALE:GREGORIAN
BEGIN:VEVENT
DTSTART:20131126T110000Z
DTEND:20131126T140000Z
UID:e14048
DTSTAMP:20260421T180757Z
LOCATION:Helen and Milton A. Kimmelman Building
DESCRIPTION:&#8220\;Structural mechanisms of viral immune evasion&#8221\;
SUMMARY:&#8220\;Structural mechanisms of viral immune evasion&#8221\;
END:VEVENT
END:VCALENDAR