BEGIN:VCALENDAR
VERSION:2.0
PRODID:-//hacksw/handcal//NONSGML v1.0//EN
CALSCALE:GREGORIAN
BEGIN:VEVENT
DTSTART:20140105T053000Z
DTEND:20140105T150000Z
UID:e14051
DTSTAMP:20260424T202509Z
LOCATION:
DESCRIPTION:1st Nancy and Stephen Grand INCPM Workshop: Proteomics\, Metabolomics and Cancer Drug Discovery
SUMMARY:1st Nancy and Stephen Grand INCPM Workshop: Proteomics\, Metabolomics and Cancer Drug Discovery
END:VEVENT
END:VCALENDAR