BEGIN:VCALENDAR
VERSION:2.0
PRODID:-//hacksw/handcal//NONSGML v1.0//EN
CALSCALE:GREGORIAN
BEGIN:VEVENT
DTSTART:20131121T081500Z
DTEND:20131121T093000Z
UID:e14052
DTSTAMP:20260421T085231Z
LOCATION:Edna and K.B. Weissman Building of Physical Sciences
DESCRIPTION:The thirteen billion year history of the most 
SUMMARY:The thirteen billion year history of the most 
END:VEVENT
END:VCALENDAR