BEGIN:VCALENDAR
VERSION:2.0
PRODID:-//hacksw/handcal//NONSGML v1.0//EN
CALSCALE:GREGORIAN
BEGIN:VEVENT
DTSTART:20131208T113000Z
DTEND:20131208T113000Z
UID:e14058
DTSTAMP:20260421T133953Z
LOCATION:Jacob Ziskind Building
DESCRIPTION:Randomized and Quasi-Randomized Algorithms for Large-Scale Kernel Methods
SUMMARY:Randomized and Quasi-Randomized Algorithms for Large-Scale Kernel Methods
END:VEVENT
END:VCALENDAR