BEGIN:VCALENDAR
VERSION:2.0
PRODID:-//hacksw/handcal//NONSGML v1.0//EN
CALSCALE:GREGORIAN
BEGIN:VEVENT
DTSTART:20131127T080000Z
DTEND:20131127T080000Z
UID:e14059
DTSTAMP:20260421T180724Z
LOCATION:Jacob Ziskind Building
DESCRIPTION:Abelian varieties\, endomorphisms and monodromy 
SUMMARY:Abelian varieties\, endomorphisms and monodromy 
END:VEVENT
END:VCALENDAR