BEGIN:VCALENDAR
VERSION:2.0
PRODID:-//hacksw/handcal//NONSGML v1.0//EN
CALSCALE:GREGORIAN
BEGIN:VEVENT
DTSTART:20131217T110000Z
DTEND:20131217T110000Z
UID:e14060
DTSTAMP:20260425T232855Z
LOCATION:Perlman Chemical Sciences Building
DESCRIPTION:Joint Chemical Physics and Materials & Interfaces Seminar 
SUMMARY:Joint Chemical Physics and Materials & Interfaces Seminar 
END:VEVENT
END:VCALENDAR