BEGIN:VCALENDAR
VERSION:2.0
PRODID:-//hacksw/handcal//NONSGML v1.0//EN
CALSCALE:GREGORIAN
BEGIN:VEVENT
DTSTART:20131126T081500Z
DTEND:20131126T081500Z
UID:e14061
DTSTAMP:20260421T134000Z
LOCATION:Ullmann Building of Life Sciences
DESCRIPTION:Induced resistance\, antibiosis and competition a tripartite mode of actions of Pseudozyma aphidis against diverse phytopathogens
SUMMARY:Induced resistance\, antibiosis and competition a tripartite mode of actions of Pseudozyma aphidis against diverse phytopathogens
END:VEVENT
END:VCALENDAR