BEGIN:VCALENDAR
VERSION:2.0
PRODID:-//hacksw/handcal//NONSGML v1.0//EN
CALSCALE:GREGORIAN
BEGIN:VEVENT
DTSTART:20131204T110000Z
DTEND:20131204T110000Z
UID:e14064
DTSTAMP:20260421T223146Z
LOCATION:Max and Lillian Candiotty Building
DESCRIPTION:Insights from sequencing the melanoma exome
SUMMARY:Insights from sequencing the melanoma exome
END:VEVENT
END:VCALENDAR