BEGIN:VCALENDAR
VERSION:2.0
PRODID:-//hacksw/handcal//NONSGML v1.0//EN
CALSCALE:GREGORIAN
BEGIN:VEVENT
DTSTART:20131211T080000Z
DTEND:20131211T080000Z
UID:e14068
DTSTAMP:20260421T180719Z
LOCATION:Jacob Ziskind Building
DESCRIPTION:A Gross-Kohnen-Zagier Type Theorem for Higher-Codimensional Heegner Cycles
SUMMARY:A Gross-Kohnen-Zagier Type Theorem for Higher-Codimensional Heegner Cycles
END:VEVENT
END:VCALENDAR