BEGIN:VCALENDAR
VERSION:2.0
PRODID:-//hacksw/handcal//NONSGML v1.0//EN
CALSCALE:GREGORIAN
BEGIN:VEVENT
DTSTART:20140122T081500Z
DTEND:20140122T090000Z
UID:e14080
DTSTAMP:20260425T081615Z
LOCATION:Nella and Leon Benoziyo Physics Building
DESCRIPTION:The Sun from Big Bear
SUMMARY:The Sun from Big Bear
END:VEVENT
END:VCALENDAR