BEGIN:VCALENDAR
VERSION:2.0
PRODID:-//hacksw/handcal//NONSGML v1.0//EN
CALSCALE:GREGORIAN
BEGIN:VEVENT
DTSTART:20131216T111500Z
DTEND:20131216T111500Z
UID:e14082
DTSTAMP:20260425T122935Z
LOCATION:Edna and K.B. Weissman Building of Physical Sciences
DESCRIPTION:  Stochasticity of Intracellular Transport
SUMMARY:  Stochasticity of Intracellular Transport
END:VEVENT
END:VCALENDAR