BEGIN:VCALENDAR
VERSION:2.0
PRODID:-//hacksw/handcal//NONSGML v1.0//EN
CALSCALE:GREGORIAN
BEGIN:VEVENT
DTSTART:20131128T101500Z
DTEND:20131128T101500Z
UID:e14091
DTSTAMP:20260421T134001Z
LOCATION:Jacob Ziskind Building
DESCRIPTION:Averaging\, Optimization and Empirical Measures 
SUMMARY:Averaging\, Optimization and Empirical Measures 
END:VEVENT
END:VCALENDAR