BEGIN:VCALENDAR
VERSION:2.0
PRODID:-//hacksw/handcal//NONSGML v1.0//EN
CALSCALE:GREGORIAN
BEGIN:VEVENT
DTSTART:20131225T110000Z
DTEND:20131225T110000Z
UID:e14104
DTSTAMP:20260424T181224Z
LOCATION:Arthur and Rochelle Belfer Building for Biomedical Research
DESCRIPTION:Charting the mammalian chromatin landscape: from mixed populations to single cells
SUMMARY:Charting the mammalian chromatin landscape: from mixed populations to single cells
END:VEVENT
END:VCALENDAR