BEGIN:VCALENDAR
VERSION:2.0
PRODID:-//hacksw/handcal//NONSGML v1.0//EN
CALSCALE:GREGORIAN
BEGIN:VEVENT
DTSTART:20131217T080000Z
DTEND:20131217T080000Z
UID:e14107
DTSTAMP:20260425T122934Z
LOCATION:Jacob Ziskind Building
DESCRIPTION:Rotating Vortex Solutions to Gross-Pitaevskii on the 2-sphere
SUMMARY:Rotating Vortex Solutions to Gross-Pitaevskii on the 2-sphere
END:VEVENT
END:VCALENDAR