BEGIN:VCALENDAR
VERSION:2.0
PRODID:-//hacksw/handcal//NONSGML v1.0//EN
CALSCALE:GREGORIAN
BEGIN:VEVENT
DTSTART:20131219T090000Z
DTEND:20131219T090000Z
UID:e14109
DTSTAMP:20260424T081302Z
LOCATION:Jacob Ziskind Building
DESCRIPTION:A Big World of Small Motions 
SUMMARY:A Big World of Small Motions 
END:VEVENT
END:VCALENDAR