BEGIN:VCALENDAR
VERSION:2.0
PRODID:-//hacksw/handcal//NONSGML v1.0//EN
CALSCALE:GREGORIAN
BEGIN:VEVENT
DTSTART:20131222T113000Z
DTEND:20131222T113000Z
UID:e14110
DTSTAMP:20260423T183815Z
LOCATION:Jacob Ziskind Building
DESCRIPTION:Polynomial Bounds for the Grid-Minor Theorem 
SUMMARY:Polynomial Bounds for the Grid-Minor Theorem 
END:VEVENT
END:VCALENDAR