BEGIN:VCALENDAR
VERSION:2.0
PRODID:-//hacksw/handcal//NONSGML v1.0//EN
CALSCALE:GREGORIAN
BEGIN:VEVENT
DTSTART:20131231T190000Z
DTEND:20131231T190000Z
UID:e14113
DTSTAMP:20260425T122854Z
LOCATION:Michael Sela Auditorium
DESCRIPTION:Shlomi Koriat hosts Ben Ben-Baruch
SUMMARY:Shlomi Koriat hosts Ben Ben-Baruch
END:VEVENT
END:VCALENDAR