BEGIN:VCALENDAR
VERSION:2.0
PRODID:-//hacksw/handcal//NONSGML v1.0//EN
CALSCALE:GREGORIAN
BEGIN:VEVENT
DTSTART:20140127T173000Z
DTEND:20140127T173000Z
UID:e14114
DTSTAMP:20260425T234715Z
LOCATION:Michael Sela Auditorium
DESCRIPTION:Mijan
SUMMARY:Mijan
END:VEVENT
END:VCALENDAR