BEGIN:VCALENDAR
VERSION:2.0
PRODID:-//hacksw/handcal//NONSGML v1.0//EN
CALSCALE:GREGORIAN
BEGIN:VEVENT
DTSTART:20131210T081500Z
DTEND:20131210T081500Z
UID:e14115
DTSTAMP:20260421T223122Z
LOCATION:Ullmann Building of Life Sciences
DESCRIPTION:Implementing the Ecological corridors concept in Israel
SUMMARY:Implementing the Ecological corridors concept in Israel
END:VEVENT
END:VCALENDAR