BEGIN:VCALENDAR
VERSION:2.0
PRODID:-//hacksw/handcal//NONSGML v1.0//EN
CALSCALE:GREGORIAN
BEGIN:VEVENT
DTSTART:20131223T070000Z
DTEND:20131223T070000Z
UID:e14117
DTSTAMP:20260424T050206Z
LOCATION:Arthur and Rochelle Belfer Building for Biomedical Research
DESCRIPTION:Real Time Evolution: Adaptation and Robustness in Polioviruses
SUMMARY:Real Time Evolution: Adaptation and Robustness in Polioviruses
END:VEVENT
END:VCALENDAR