BEGIN:VCALENDAR
VERSION:2.0
PRODID:-//hacksw/handcal//NONSGML v1.0//EN
CALSCALE:GREGORIAN
BEGIN:VEVENT
DTSTART:20131210T093000Z
DTEND:20131210T093000Z
UID:e14119
DTSTAMP:20260421T150445Z
LOCATION:Gerhard M.J. Schmidt Lecture Hall
DESCRIPTION:The fast and the slow: Neuronal oscillators\, feedback\, and control in the vibrissa system
SUMMARY:The fast and the slow: Neuronal oscillators\, feedback\, and control in the vibrissa system
END:VEVENT
END:VCALENDAR