BEGIN:VCALENDAR
VERSION:2.0
PRODID:-//hacksw/handcal//NONSGML v1.0//EN
CALSCALE:GREGORIAN
BEGIN:VEVENT
DTSTART:20131217T120000Z
DTEND:20131217T120000Z
UID:e14120
DTSTAMP:20260424T180028Z
LOCATION:The David Lopatie Hall of Graduate Studies
DESCRIPTION:"Formation of 3D cholesterol crystals from 2D nucleation sites in lipid bilayer membranes"
SUMMARY:"Formation of 3D cholesterol crystals from 2D nucleation sites in lipid bilayer membranes"
END:VEVENT
END:VCALENDAR