BEGIN:VCALENDAR
VERSION:2.0
PRODID:-//hacksw/handcal//NONSGML v1.0//EN
CALSCALE:GREGORIAN
BEGIN:VEVENT
DTSTART:20131215T101500Z
DTEND:20131215T101500Z
UID:e14125
DTSTAMP:20260425T122930Z
LOCATION:Dannie N. Heineman Laboratory
DESCRIPTION:Transport by the Nuclear Pore Complex: simple physics of a complex biomachine
SUMMARY:Transport by the Nuclear Pore Complex: simple physics of a complex biomachine
END:VEVENT
END:VCALENDAR