BEGIN:VCALENDAR
VERSION:2.0
PRODID:-//hacksw/handcal//NONSGML v1.0//EN
CALSCALE:GREGORIAN
BEGIN:VEVENT
DTSTART:20131226T143000Z
DTEND:20131226T143000Z
UID:e14127
DTSTAMP:20260424T174904Z
LOCATION:Michael Sela Auditorium
DESCRIPTION:Goshen Theater-Jacob's Dream
SUMMARY:Goshen Theater-Jacob's Dream
END:VEVENT
END:VCALENDAR