BEGIN:VCALENDAR
VERSION:2.0
PRODID:-//hacksw/handcal//NONSGML v1.0//EN
CALSCALE:GREGORIAN
BEGIN:VEVENT
DTSTART:20140105T080000Z
DTEND:20140105T080000Z
UID:e14135
DTSTAMP:20260424T174901Z
LOCATION:Sussman Family Building for Environmental Sciences
DESCRIPTION:Iron reduction in sediments and its microbial redox coupling to the methane and sulfate cycles
SUMMARY:Iron reduction in sediments and its microbial redox coupling to the methane and sulfate cycles
END:VEVENT
END:VCALENDAR