BEGIN:VCALENDAR
VERSION:2.0
PRODID:-//hacksw/handcal//NONSGML v1.0//EN
CALSCALE:GREGORIAN
BEGIN:VEVENT
DTSTART:20140126T080000Z
DTEND:20140126T080000Z
UID:e14140
DTSTAMP:20260425T081613Z
LOCATION:Sussman Family Building for Environmental Sciences
DESCRIPTION:Ophiolite insight into Phanerozoic ocean chemistry
SUMMARY:Ophiolite insight into Phanerozoic ocean chemistry
END:VEVENT
END:VCALENDAR