BEGIN:VCALENDAR
VERSION:2.0
PRODID:-//hacksw/handcal//NONSGML v1.0//EN
CALSCALE:GREGORIAN
BEGIN:VEVENT
DTSTART:20131205T081500Z
DTEND:20131205T093000Z
UID:e14141
DTSTAMP:20260421T150448Z
LOCATION:Edna and K.B. Weissman Building of Physical Sciences
DESCRIPTION:State of the art laser plasma accelerator
SUMMARY:State of the art laser plasma accelerator
END:VEVENT
END:VCALENDAR