BEGIN:VCALENDAR
VERSION:2.0
PRODID:-//hacksw/handcal//NONSGML v1.0//EN
CALSCALE:GREGORIAN
BEGIN:VEVENT
DTSTART:20131224T080000Z
DTEND:20131224T080000Z
UID:e14174
DTSTAMP:20260424T225423Z
LOCATION:Jacob Ziskind Building
DESCRIPTION:Uniqueness of the invariant measure  for networks of interactions
SUMMARY:Uniqueness of the invariant measure  for networks of interactions
END:VEVENT
END:VCALENDAR