BEGIN:VCALENDAR
VERSION:2.0
PRODID:-//hacksw/handcal//NONSGML v1.0//EN
CALSCALE:GREGORIAN
BEGIN:VEVENT
DTSTART:20131231T080000Z
DTEND:20131231T080000Z
UID:e14175
DTSTAMP:20260424T174907Z
LOCATION:Jacob Ziskind Building
DESCRIPTION:The incidence and cross methods for efficient radar detection
SUMMARY:The incidence and cross methods for efficient radar detection
END:VEVENT
END:VCALENDAR