BEGIN:VCALENDAR
VERSION:2.0
PRODID:-//hacksw/handcal//NONSGML v1.0//EN
CALSCALE:GREGORIAN
BEGIN:VEVENT
DTSTART:20131211T063000Z
DTEND:20131211T063000Z
UID:e14177
DTSTAMP:20260421T223131Z
LOCATION:Nella and Leon Benoziyo Building for Brain Research
DESCRIPTION:An innovative hybrid of White Light based spinning disk technology and structured illumination 
SUMMARY:An innovative hybrid of White Light based spinning disk technology and structured illumination 
END:VEVENT
END:VCALENDAR