BEGIN:VCALENDAR
VERSION:2.0
PRODID:-//hacksw/handcal//NONSGML v1.0//EN
CALSCALE:GREGORIAN
BEGIN:VEVENT
DTSTART:20131229T110000Z
DTEND:20131229T110000Z
UID:e14184
DTSTAMP:20260424T225414Z
LOCATION:
DESCRIPTION:The Tousled Kinetochore and the Ins and outs of Mitosis
SUMMARY:The Tousled Kinetochore and the Ins and outs of Mitosis
END:VEVENT
END:VCALENDAR