BEGIN:VCALENDAR
VERSION:2.0
PRODID:-//hacksw/handcal//NONSGML v1.0//EN
CALSCALE:GREGORIAN
BEGIN:VEVENT
DTSTART:20140107T070000Z
DTEND:20140107T080000Z
UID:e14191
DTSTAMP:20260424T174648Z
LOCATION:Wolfson Building for Biological Research
DESCRIPTION:Chaperone-mediated regulation of translation in the mammalian stress response
SUMMARY:Chaperone-mediated regulation of translation in the mammalian stress response
END:VEVENT
END:VCALENDAR