BEGIN:VCALENDAR
VERSION:2.0
PRODID:-//hacksw/handcal//NONSGML v1.0//EN
CALSCALE:GREGORIAN
BEGIN:VEVENT
DTSTART:20131224T103000Z
DTEND:20131224T113000Z
UID:e14193
DTSTAMP:20260423T183849Z
LOCATION:Wolfson Building for Biological Research
DESCRIPTION:Pathogen phage host interactions
SUMMARY:Pathogen phage host interactions
END:VEVENT
END:VCALENDAR