BEGIN:VCALENDAR
VERSION:2.0
PRODID:-//hacksw/handcal//NONSGML v1.0//EN
CALSCALE:GREGORIAN
BEGIN:VEVENT
DTSTART:20131217T081500Z
DTEND:20131217T081500Z
UID:e14196
DTSTAMP:20260423T183823Z
LOCATION:Ullmann Building of Life Sciences
DESCRIPTION:Endocytosis and sterol biosynthesis in the induction of plant immunity
SUMMARY:Endocytosis and sterol biosynthesis in the induction of plant immunity
END:VEVENT
END:VCALENDAR