BEGIN:VCALENDAR
VERSION:2.0
PRODID:-//hacksw/handcal//NONSGML v1.0//EN
CALSCALE:GREGORIAN
BEGIN:VEVENT
DTSTART:20140106T070000Z
DTEND:20140106T070000Z
UID:e14200
DTSTAMP:20260425T075212Z
LOCATION:Ullmann Building of Life Sciences
DESCRIPTION:Epistasis as a dominant factor in evolution
SUMMARY:Epistasis as a dominant factor in evolution
END:VEVENT
END:VCALENDAR