BEGIN:VCALENDAR
VERSION:2.0
PRODID:-//hacksw/handcal//NONSGML v1.0//EN
CALSCALE:GREGORIAN
BEGIN:VEVENT
DTSTART:20140120T111500Z
DTEND:20140120T111500Z
UID:e14205
DTSTAMP:20260425T195642Z
LOCATION:Edna and K.B. Weissman Building of Physical Sciences
DESCRIPTION:Pattern formation - a missing link in the study of ecosystem response to climate change
SUMMARY:Pattern formation - a missing link in the study of ecosystem response to climate change
END:VEVENT
END:VCALENDAR