BEGIN:VCALENDAR
VERSION:2.0
PRODID:-//hacksw/handcal//NONSGML v1.0//EN
CALSCALE:GREGORIAN
BEGIN:VEVENT
DTSTART:20140116T163000Z
DTEND:20140116T193000Z
UID:e14207
DTSTAMP:20260425T195708Z
LOCATION:Michael Sela Auditorium
DESCRIPTION:OFER LIDER - SHIRAT HAMADA
SUMMARY:OFER LIDER - SHIRAT HAMADA
END:VEVENT
END:VCALENDAR