BEGIN:VCALENDAR
VERSION:2.0
PRODID:-//hacksw/handcal//NONSGML v1.0//EN
CALSCALE:GREGORIAN
BEGIN:VEVENT
DTSTART:20131223T111500Z
DTEND:20131223T111500Z
UID:e14208
DTSTAMP:20260424T225407Z
LOCATION:Edna and K.B. Weissman Building of Physical Sciences
DESCRIPTION:Information flow in sensing-acting systems and the emergence of hierarchies through renormalization of the Bellman equation 
SUMMARY:Information flow in sensing-acting systems and the emergence of hierarchies through renormalization of the Bellman equation 
END:VEVENT
END:VCALENDAR