BEGIN:VCALENDAR
VERSION:2.0
PRODID:-//hacksw/handcal//NONSGML v1.0//EN
CALSCALE:GREGORIAN
BEGIN:VEVENT
DTSTART:20140616T061500Z
DTEND:20140616T080000Z
UID:e14218
DTSTAMP:20260425T225303Z
LOCATION:Wolfson Building for Biological Research
DESCRIPTION:Crosstalk of innate immunity and hemostasis
SUMMARY:Crosstalk of innate immunity and hemostasis
END:VEVENT
END:VCALENDAR