BEGIN:VCALENDAR
VERSION:2.0
PRODID:-//hacksw/handcal//NONSGML v1.0//EN
CALSCALE:GREGORIAN
BEGIN:VEVENT
DTSTART:20131231T103000Z
DTEND:20131231T113000Z
UID:e14225
DTSTAMP:20260424T174857Z
LOCATION:Wolfson Building for Biological Research
DESCRIPTION:"The antiviral molecular machinery of human cells"
SUMMARY:"The antiviral molecular machinery of human cells"
END:VEVENT
END:VCALENDAR