BEGIN:VCALENDAR
VERSION:2.0
PRODID:-//hacksw/handcal//NONSGML v1.0//EN
CALSCALE:GREGORIAN
BEGIN:VEVENT
DTSTART:20131225T080500Z
DTEND:20131225T080500Z
UID:e14227
DTSTAMP:20260423T183836Z
LOCATION:Jacob Ziskind Building
DESCRIPTION:Random walks on groups and the Kaimanovich-Vershik 1983 conjecture for lamplighter groups
SUMMARY:Random walks on groups and the Kaimanovich-Vershik 1983 conjecture for lamplighter groups
END:VEVENT
END:VCALENDAR