BEGIN:VCALENDAR
VERSION:2.0
PRODID:-//hacksw/handcal//NONSGML v1.0//EN
CALSCALE:GREGORIAN
BEGIN:VEVENT
DTSTART:20131226T081500Z
DTEND:20131226T093000Z
UID:e14242
DTSTAMP:20260423T183825Z
LOCATION:Edna and K.B. Weissman Building of Physical Sciences
DESCRIPTION:Graphene: physicist's view of the wonder material
SUMMARY:Graphene: physicist's view of the wonder material
END:VEVENT
END:VCALENDAR