BEGIN:VCALENDAR
VERSION:2.0
PRODID:-//hacksw/handcal//NONSGML v1.0//EN
CALSCALE:GREGORIAN
BEGIN:VEVENT
DTSTART:20131230T120000Z
DTEND:20131230T120000Z
UID:e14245
DTSTAMP:20260424T174908Z
LOCATION:Nella and Leon Benoziyo Building for Brain Research
DESCRIPTION:Defining the role for prefrontal cortex in memory-guided sensory decision-making
SUMMARY:Defining the role for prefrontal cortex in memory-guided sensory decision-making
END:VEVENT
END:VCALENDAR