BEGIN:VCALENDAR
VERSION:2.0
PRODID:-//hacksw/handcal//NONSGML v1.0//EN
CALSCALE:GREGORIAN
BEGIN:VEVENT
DTSTART:20131229T080000Z
DTEND:20131229T080000Z
UID:e14246
DTSTAMP:20260425T124626Z
LOCATION:Helen and Milton A. Kimmelman Building
DESCRIPTION:&#8220\;Development of Peptide-Based Tools to Study Quorum Sensing in Staphylococcus aureus&#8221\;
SUMMARY:&#8220\;Development of Peptide-Based Tools to Study Quorum Sensing in Staphylococcus aureus&#8221\;
END:VEVENT
END:VCALENDAR