BEGIN:VCALENDAR
VERSION:2.0
PRODID:-//hacksw/handcal//NONSGML v1.0//EN
CALSCALE:GREGORIAN
BEGIN:VEVENT
DTSTART:20131230T081500Z
DTEND:20131230T090000Z
UID:e14247
DTSTAMP:20260424T174649Z
LOCATION:Nella and Leon Benoziyo Physics Building
DESCRIPTION:State of the art of observations of SNe connected with GRBs
SUMMARY:State of the art of observations of SNe connected with GRBs
END:VEVENT
END:VCALENDAR