BEGIN:VCALENDAR
VERSION:2.0
PRODID:-//hacksw/handcal//NONSGML v1.0//EN
CALSCALE:GREGORIAN
BEGIN:VEVENT
DTSTART:20140121T080000Z
DTEND:20140121T080000Z
UID:e14252
DTSTAMP:20260425T195647Z
LOCATION:Arthur and Rochelle Belfer Building for Biomedical Research
DESCRIPTION:Growth-rate dependent gene expression and bacterial persistence
SUMMARY:Growth-rate dependent gene expression and bacterial persistence
END:VEVENT
END:VCALENDAR